BEGIN:VCALENDAR
VERSION:2.0
PRODID:-//Amazing Place - ECPv6.15.17.1//NONSGML v1.0//EN
CALSCALE:GREGORIAN
METHOD:PUBLISH
X-ORIGINAL-URL:https://www.amazingplacehouston.org
X-WR-CALDESC:Events for Amazing Place
REFRESH-INTERVAL;VALUE=DURATION:PT1H
X-Robots-Tag:noindex
X-PUBLISHED-TTL:PT1H
BEGIN:VTIMEZONE
TZID:America/Chicago
BEGIN:DAYLIGHT
TZOFFSETFROM:-0600
TZOFFSETTO:-0500
TZNAME:CDT
DTSTART:20250309T080000
END:DAYLIGHT
BEGIN:STANDARD
TZOFFSETFROM:-0500
TZOFFSETTO:-0600
TZNAME:CST
DTSTART:20251102T070000
END:STANDARD
BEGIN:DAYLIGHT
TZOFFSETFROM:-0600
TZOFFSETTO:-0500
TZNAME:CDT
DTSTART:20260308T080000
END:DAYLIGHT
BEGIN:STANDARD
TZOFFSETFROM:-0500
TZOFFSETTO:-0600
TZNAME:CST
DTSTART:20261101T070000
END:STANDARD
BEGIN:DAYLIGHT
TZOFFSETFROM:-0600
TZOFFSETTO:-0500
TZNAME:CDT
DTSTART:20270314T080000
END:DAYLIGHT
BEGIN:STANDARD
TZOFFSETFROM:-0500
TZOFFSETTO:-0600
TZNAME:CST
DTSTART:20271107T070000
END:STANDARD
END:VTIMEZONE
BEGIN:VEVENT
DTSTART;TZID=America/Chicago:20261203T120000
DTEND;TZID=America/Chicago:20261203T130000
DTSTAMP:20260421T043756
CREATED:20260420T164847Z
LAST-MODIFIED:20260420T165421Z
UID:241253-1796299200-1796302800@www.amazingplacehouston.org
SUMMARY:Women and Brain Health 12/3/2026
DESCRIPTION:One in five women over 65 is at a lifetime risk of developing dementia\, far greater than men. Learn what factors contribute to a diagnosis and what steps you can take to prevent or slow the onset of dementia and Alzheimer’s for you and your loved ones. REGISTER
URL:https://www.amazingplacehouston.org/event/women-and-brain-health-12-3-2026/
LOCATION:Amazing Place West\, 621 Circle deMatel\, Houston\, TX\, 77094\, United States
CATEGORIES:Brain Health Matters Presentations
ATTACH;FMTTYPE=image/jpeg:https://www.amazingplacehouston.org/wp-content/uploads/2026/04/0f360b74ff918f883e70354895626a48.jpg
END:VEVENT
END:VCALENDAR